BEGIN:VCALENDAR
VERSION:2.0
PRODID:-//Contratero//ES
CALSCALE:GREGORIAN
METHOD:PUBLISH
BEGIN:VEVENT
UID:PSS 37/2024@contratero.es
DTSTAMP:20260424T083538Z
DTSTART:20250130T235959
DTEND:20250131T005959
SUMMARY:Cierre: Contratación del servicio de plataforma web para l
DESCRIPTION:Contratación del servicio de plataforma web para la gestión documental de la coordinación actividades empresariales y control de accesos para los centros de vaersa.\\n\\nOrganismo: Valenciana d'Estrategies i Recursos per a la Sostenibilitat Ambiental\, Sociedad Anónima\\n\\nVer en Contratero: https://contratero.es/contracts/PSS 37/2024
URL:https://contratero.es/contracts/PSS 37/2024
STATUS:CONFIRMED
BEGIN:VALARM
TRIGGER:-P1D
ACTION:DISPLAY
DESCRIPTION:Recordatorio: Contratación del servicio de p
END:VALARM
END:VEVENT
END:VCALENDAR